BEGIN:VCALENDAR
VERSION:2.0
PRODID:-//ChamberMaster//Event Calendar 2.0//EN
METHOD:PUBLISH
X-PUBLISHED-TTL:P3D
REFRESH-INTERVAL:P3D
CALSCALE:GREGORIAN
BEGIN:VEVENT
DTSTART:20240708T230000Z
DTEND:20240709T000000Z
X-MICROSOFT-CDO-ALLDAYEVENT:FALSE
SUMMARY:Fiction Book Club - Ascension by Nicholas Binge
DESCRIPTION:Fiction Book Club discusses Ascension by Nicholas Binge. Please contact the library if you are interested in joining a library book club.
X-ALT-DESC;FMTTYPE=text/html:<div>Fiction Book Club discusses Ascension by Nicholas Binge. Please contact the library if you are interested in joining a library book club.</div>\n
LOCATION:Mitchell Public Library 221 N. Duff St Mitchell\, SD 57301
UID:e.1624.36651
SEQUENCE:3
DTSTAMP:20260420T084139Z
URL:https://business.mitchellchamber.com/events/details/fiction-book-club-ascension-by-nicholas-binge-36651
END:VEVENT

END:VCALENDAR
