BEGIN:VCALENDAR
VERSION:2.0
PRODID:-//ChamberMaster//Event Calendar 2.0//EN
METHOD:PUBLISH
X-PUBLISHED-TTL:P3D
REFRESH-INTERVAL:P3D
CALSCALE:GREGORIAN
BEGIN:VEVENT
DTSTART:20240413T170000Z
DTEND:20240413T213000Z
X-MICROSOFT-CDO-ALLDAYEVENT:FALSE
SUMMARY:Fiber Arts Craft Group
DESCRIPTION:
X-ALT-DESC;FMTTYPE=text/html:
LOCATION:Mitchell Public Library 221 N. Duff St. Mitchell\, SD 57301
UID:e.1624.36168
SEQUENCE:3
DTSTAMP:20260420T093147Z
URL:https://business.mitchellchamber.com/events/details/fiber-arts-craft-group-36168
END:VEVENT

END:VCALENDAR
