BEGIN:VCALENDAR
VERSION:2.0
PRODID:-//ChamberMaster//Event Calendar 2.0//EN
METHOD:PUBLISH
X-PUBLISHED-TTL:P3D
REFRESH-INTERVAL:P3D
CALSCALE:GREGORIAN
BEGIN:VEVENT
DTSTART:20240706T170000Z
DTEND:20240706T213000Z
X-MICROSOFT-CDO-ALLDAYEVENT:FALSE
SUMMARY:Fiber Arts Craft Club
DESCRIPTION:Bring a new or existing project to the library on July 6th to work alongside fellow crafters. All skill types are welcome. This event will be hosted in the library community room and is free to attend.
X-ALT-DESC;FMTTYPE=text/html:<div>Bring a new or existing project to the library on July 6th to work alongside fellow crafters. All skill types are welcome. This event will be hosted in the library community room and is free to attend.</div>\n
LOCATION:Mitchell Public Library 221 N. Duff St. Mitchell\, SD 57301
UID:e.1624.37352
SEQUENCE:3
DTSTAMP:20260420T083516Z
URL:https://business.mitchellchamber.com/events/details/fiber-arts-craft-club-37352
END:VEVENT

END:VCALENDAR
