BEGIN:VCALENDAR
VERSION:2.0
PRODID:-//ChamberMaster//Event Calendar 2.0//EN
METHOD:PUBLISH
X-PUBLISHED-TTL:P3D
REFRESH-INTERVAL:P3D
CALSCALE:GREGORIAN
BEGIN:VEVENT
DTSTART:20231130T200000Z
DTEND:20231202T220000Z
X-MICROSOFT-CDO-ALLDAYEVENT:FALSE
SUMMARY:Festival of Wreaths: Tour & Silent Auction
DESCRIPTION:Edgewood Assisted Living is hosting a Festival of Wreaths: Tour and Silent Auction!\n\n\n\nJoin us to view beautifully decorated wreaths generously donated by local businesses and organizations. All proceeds benefit "Sleep in Heavenly Peace." Stop by Edgewood to view the wreaths\, take a tour\, and learn about the efforts of this local non-profit. Open to the public. Place your bid on the wreaths\, and enjoy refreshments as we usher in the holiday season!\n\n\n\nDetails:\n\n	Silent auction open to the public: November 30\, December 1 & 2 from 2-4 p.m.\n	Silent auction bid can be received in person or via the following link: https://www.32auctions.com/festivalofwreaths23\n	Silent auction will open Noon on 11/30 and close at 12 a.m. on 12/4\n	Special performance by the Edgewood Chorus on December 1st at 3 p.m.\n	Wreaths will be delivered by December 8th\, 2023
X-ALT-DESC;FMTTYPE=text/html:Edgewood Assisted Living is hosting a Festival of Wreaths: Tour and Silent Auction!<br />\n<br />\nJoin us to view beautifully decorated wreaths generously donated by local businesses and organizations. All proceeds benefit &quot\;Sleep in Heavenly Peace.&quot\; Stop by Edgewood to view the wreaths\, take a tour\, and learn about the efforts of this local non-profit. Open to the public. Place your bid on the wreaths\, and enjoy refreshments as we usher in the holiday season!<br />\n<br />\nDetails:\n<ul>\n	<li>Silent auction open to the public: November 30\, December 1 &amp\; 2 from 2-4 p.m.</li>\n	<li>Silent auction bid can be received in person or via the following link: <a href="https://www.32auctions.com/festivalofwreaths23" target="_blank">https://www.32auctions.com/festivalofwreaths23</a></li>\n	<li>Silent auction will open Noon on 11/30 and close at 12 a.m. on 12/4</li>\n	<li>Special performance by the Edgewood Chorus on December 1st at 3 p.m.</li>\n	<li>Wreaths will be delivered by December 8th\, 2023</li>\n</ul>\n
LOCATION:Edgewood Assisted Living 501 East Spruce St Mitchell\, SD 57301
UID:e.1624.35401
SEQUENCE:3
DTSTAMP:20260420T142313Z
URL:https://business.mitchellchamber.com/events/details/festival-of-wreaths-tour-silent-auction-35401
END:VEVENT

END:VCALENDAR
