BEGIN:VCALENDAR
VERSION:2.0
PRODID:-//ChamberMaster//Event Calendar 2.0//EN
METHOD:PUBLISH
X-PUBLISHED-TTL:P3D
REFRESH-INTERVAL:P3D
CALSCALE:GREGORIAN
BEGIN:VEVENT
DTSTART:20190118T010000Z
DTEND:20190118T020000Z
X-MICROSOFT-CDO-ALLDAYEVENT:FALSE
SUMMARY:FDC Community Show
DESCRIPTION:People are you ready? We hope you are! FDC would like to invite you to the debut of our 2019 Competition Show! The show will be held at the PAC on January 17th @ 7 p.m. The cost will be $5 at the door or a donation of 2 canned goods for our local food pantry! We would be honored to entertain you all! See you there!
X-ALT-DESC;FMTTYPE=text/html:<span>People are you ready? We hope you are! FDC would like to invite you to the debut of our 2019 Competition Show! The show will be held at the PAC on January 17th @ 7 p.m. The cost will be $5 at the door or a donation of 2 canned goods for our local food pantry! We would be honored to entertain you all! See you there!</span>
LOCATION:Perfroming Arts Center
UID:e.1624.21890
SEQUENCE:3
DTSTAMP:20260424T185042Z
URL:https://business.mitchellchamber.com/events/details/fdc-community-show-21890
END:VEVENT

END:VCALENDAR
