BEGIN:VCALENDAR
VERSION:2.0
PRODID:-//ChamberMaster//Event Calendar 2.0//EN
METHOD:PUBLISH
X-PUBLISHED-TTL:P3D
REFRESH-INTERVAL:P3D
CALSCALE:GREGORIAN
BEGIN:VEVENT
DTSTART:20220511T170000Z
DTEND:20220511T180000Z
X-MICROSOFT-CDO-ALLDAYEVENT:FALSE
SUMMARY:Fashion Show & Sale
DESCRIPTION:Fashion Show & Sale - Just Fabulous Boutique from Huron will partner with James Valley Community Center with gently used clothing and accessories for a Fashion Show. Items will be on sale following the show.
X-ALT-DESC;FMTTYPE=text/html:Fashion Show &amp\; Sale - Just Fabulous Boutique from Huron will partner with James Valley Community Center with gently used clothing and accessories for a Fashion Show. Items will be on sale following the show.
LOCATION:James Valley Community Center 300 W 1st Ave\, Mitchell
UID:e.1624.32197
SEQUENCE:3
DTSTAMP:20260422T014515Z
URL:https://business.mitchellchamber.com/events/details/fashion-show-sale-05-11-2022-32197
END:VEVENT

END:VCALENDAR
