BEGIN:VCALENDAR
VERSION:2.0
PRODID:-//ChamberMaster//Event Calendar 2.0//EN
METHOD:PUBLISH
X-PUBLISHED-TTL:P3D
REFRESH-INTERVAL:P3D
CALSCALE:GREGORIAN
BEGIN:VEVENT
DTSTART:20180607T213000Z
DTEND:20180608T000000Z
X-MICROSOFT-CDO-ALLDAYEVENT:FALSE
SUMMARY:Farmers Market
DESCRIPTION:Join us every Thursday\, June through September* This is a seasonal open air market offering local fresh garden produce\, eggs\, meats\, canned goods\, jellies\, jams\, baked goods\, handcrafted items\, children?s activities and more. Contact Maria Payne 605-995-8048 mpayne@cityofmitchell.org for more information https://www.facebook.com/MitchellMarket/ Want to be a vendor? The vendor fee is $10 per 10X10 space. Only farmers market type vendors are eligable- Direct Sale vendors will NOT be allowed. We will highlight 1 non-profit/service organization and they will be allowed to set up a booth at no charge and will provide a children?s activity. The non-profit/service organization will not be allowed to sell anything unless it?s a ?fundraiser? and its approved by Maria prior to the event. *Please note there will not be a Farmers Market on Aug 23
X-ALT-DESC;FMTTYPE=text/html:Join us every Thursday\, June through September* This is a seasonal open air market offering local fresh garden produce\, eggs\, meats\, canned goods\, jellies\, jams\, baked goods\, handcrafted items\, children?s activities and more. Contact Maria Payne 605-995-8048 mpayne@cityofmitchell.org for more information https://www.facebook.com/MitchellMarket/ Want to be a vendor? The vendor fee is $10 per 10X10 space. Only farmers market type vendors are eligable- Direct Sale vendors will NOT be allowed. We will highlight 1 non-profit/service organization and they will be allowed to set up a booth at no charge and will provide a children?s activity. The non-profit/service organization will not be allowed to sell anything unless it?s a ?fundraiser? and its approved by Maria prior to the event. *Please note there will not be a Farmers Market on Aug 23
LOCATION:Corn Palace Plaza
UID:e.1624.15292
SEQUENCE:3
DTSTAMP:20260425T124738Z
URL:https://business.mitchellchamber.com/events/details/farmers-market-15292
END:VEVENT

END:VCALENDAR
