BEGIN:VCALENDAR
VERSION:2.0
PRODID:-//ChamberMaster//Event Calendar 2.0//EN
METHOD:PUBLISH
X-PUBLISHED-TTL:P3D
REFRESH-INTERVAL:P3D
CALSCALE:GREGORIAN
BEGIN:VEVENT
DTSTART:20240731T223000Z
DTEND:20240801T003000Z
X-MICROSOFT-CDO-ALLDAYEVENT:FALSE
SUMMARY:Farmers Market
DESCRIPTION:We invite you to attend the Palace City Farmers Market Wednesdays this summer\, 5:30-7:30 pm each Wednesday.  You will find all types of homecooked\, homemade and hand crafted items.
X-ALT-DESC;FMTTYPE=text/html:<p>We invite you to attend the Palace City Farmers Market Wednesdays this summer\, 5:30-7:30 pm each Wednesday. &nbsp\;You will find all types of homecooked\, homemade and hand crafted items.</p>\n
LOCATION:Hitchcock Park 1201 E. Hanson Ave Mitchell\, SD 57301
UID:e.1624.36618
SEQUENCE:3
DTSTAMP:20260420T135713Z
URL:https://business.mitchellchamber.com/events/details/farmers-market-07-31-2024-36618
END:VEVENT

END:VCALENDAR
