BEGIN:VCALENDAR
VERSION:2.0
PRODID:-//ChamberMaster//Event Calendar 2.0//EN
METHOD:PUBLISH
X-PUBLISHED-TTL:P3D
REFRESH-INTERVAL:P3D
CALSCALE:GREGORIAN
BEGIN:VEVENT
DTSTART:20190707T170000Z
DTEND:20190707T210000Z
X-MICROSOFT-CDO-ALLDAYEVENT:FALSE
SUMMARY:Family Summer Event at Cabela's
DESCRIPTION:Starting this Saturday\, June 22 the Family Summer Event begins!! Be sure to bring the kids by for lots of activities\, crafts\, and workshops!!!!!
X-ALT-DESC;FMTTYPE=text/html:<span aria-live="polite" class="fbPhotosPhotoCaption" data-ft="{&quot\;tn&quot\;:&quot\;K&quot\;}" id="fbPhotoSnowliftCaption" tabindex="0"><span class="hasCaption">Starting this Saturday\, June 22 the Family Summer Event begins!! Be sure to bring the kids by for lots of activities\, crafts\, and workshops!!!!!</span></span>
LOCATION:601 Cabela Drive
UID:e.1624.24965
SEQUENCE:3
DTSTAMP:20260424T111059Z
URL:https://business.mitchellchamber.com/events/details/family-summer-event-at-cabela-s-07-07-2019-24965
END:VEVENT

END:VCALENDAR
