BEGIN:VCALENDAR
VERSION:2.0
PRODID:-//ChamberMaster//Event Calendar 2.0//EN
METHOD:PUBLISH
X-PUBLISHED-TTL:P3D
REFRESH-INTERVAL:P3D
CALSCALE:GREGORIAN
BEGIN:VEVENT
DTSTART:20180517T230000Z
DTEND:20180518T010000Z
X-MICROSOFT-CDO-ALLDAYEVENT:FALSE
SUMMARY:Family Night at the Museum
DESCRIPTION:The Dakota Discovery Museum will host Family Night at the Museum once per month with a different theme each month!
X-ALT-DESC;FMTTYPE=text/html:The Dakota Discovery Museum will host Family Night at the Museum once per month with a different theme each month!
LOCATION:Dakota Discovery Museum 1300 McGovern Ave Mitchell\, SD 57301
UID:e.1624.9211
SEQUENCE:3
DTSTAMP:20260425T142846Z
URL:https://business.mitchellchamber.com/events/details/family-night-at-the-museum-9211
END:VEVENT

END:VCALENDAR
