BEGIN:VCALENDAR
VERSION:2.0
PRODID:-//ChamberMaster//Event Calendar 2.0//EN
METHOD:PUBLISH
X-PUBLISHED-TTL:P3D
REFRESH-INTERVAL:P3D
CALSCALE:GREGORIAN
BEGIN:VEVENT
DTSTART:20181214T010000Z
DTEND:20181214T030000Z
X-MICROSOFT-CDO-ALLDAYEVENT:FALSE
SUMMARY:Family Night at the Museum
DESCRIPTION:"A Middle Border Merry Christmas!"
X-ALT-DESC;FMTTYPE=text/html:&quot\;A Middle Border Merry Christmas!&quot\;&nbsp\;
LOCATION:Dakota Discovery Museum 1300 McGovern Ave Mitchell\, SD 57301
UID:e.1624.18368
SEQUENCE:3
DTSTAMP:20260424T201936Z
URL:https://business.mitchellchamber.com/events/details/family-night-at-the-museum-18368
END:VEVENT

END:VCALENDAR
