BEGIN:VCALENDAR
VERSION:2.0
PRODID:-//ChamberMaster//Event Calendar 2.0//EN
METHOD:PUBLISH
X-PUBLISHED-TTL:P3D
REFRESH-INTERVAL:P3D
CALSCALE:GREGORIAN
BEGIN:VEVENT
DTSTART:20220518T161500Z
DTEND:20220518T164500Z
X-MICROSOFT-CDO-ALLDAYEVENT:FALSE
SUMMARY:Fall Prevention Talk at JVCC
DESCRIPTION:Shannon Sandoval\, Fire Marshal will present "Slips\, Trips & Falls" as part of Wednesday Wellness" on May 18 @ 11:15 am at JVCC   This is a program in partnership with Avera   No fee to listen to program. Call day prior or morning of before 8 am if you would like a meal reservation by calling 995-8441.
X-ALT-DESC;FMTTYPE=text/html:Shannon Sandoval\, Fire Marshal will present &ldquo\;Slips\, Trips &amp\; Falls&rdquo\; as part of Wednesday Wellness&rdquo\; on May 18 @ 11:15 am at JVCC &ndash\; This is a program in partnership with Avera &ndash\; No fee to listen to program. Call day prior or morning of before 8 am if you would like a meal reservation by calling 995-8441.
LOCATION:James Valley Community Center 300 W 1st Ave\, Mitchell
UID:e.1624.32521
SEQUENCE:3
DTSTAMP:20260422T013723Z
URL:https://business.mitchellchamber.com/events/details/fall-prevention-talk-at-jvcc-32521
END:VEVENT

END:VCALENDAR
