BEGIN:VCALENDAR
VERSION:2.0
PRODID:-//ChamberMaster//Event Calendar 2.0//EN
METHOD:PUBLISH
X-PUBLISHED-TTL:P3D
REFRESH-INTERVAL:P3D
CALSCALE:GREGORIAN
BEGIN:VEVENT
DTSTART:20180322T143000Z
DTEND:20180322T190000Z
X-MICROSOFT-CDO-ALLDAYEVENT:FALSE
SUMMARY:Exploration Day at MTI
DESCRIPTION:Mitchell Technical Institute is hosting their Exploration Day! During the Exploration Day session\, participants and their guests may visit classes and labs in any of MTI's program/majors\, learn about financial aid opportunities and tour the MTI campus.
X-ALT-DESC;FMTTYPE=text/html:Mitchell Technical Institute is hosting their Exploration Day! <span class="_4n-j _3cht fsl" data-testid="event-permalink-details">During the Exploration Day session\, participants and their guests may visit classes and labs in any of MTI&rsquo\;s program/majors\, learn about financial aid opportunities and tour the MTI campus.</span><br />\n&nbsp\;
LOCATION:Mitchell Technical Institute 1800 E Spruce St\, Mitchell\, SD
UID:e.1624.11498
SEQUENCE:3
DTSTAMP:20260425T173353Z
URL:https://business.mitchellchamber.com/events/details/exploration-day-at-mti-11498
END:VEVENT

END:VCALENDAR
