BEGIN:VCALENDAR
VERSION:2.0
PRODID:-//ChamberMaster//Event Calendar 2.0//EN
METHOD:PUBLISH
X-PUBLISHED-TTL:P3D
REFRESH-INTERVAL:P3D
CALSCALE:GREGORIAN
BEGIN:VEVENT
DTSTART:20250322T200000Z
DTEND:20250322T220000Z
X-MICROSOFT-CDO-ALLDAYEVENT:FALSE
SUMMARY:Event Space Open House
DESCRIPTION:Come take a look at our private event space\, The Overlook\, upstairs at the brewery. We'll be here to answer any questions you have. Appetizers and desserts will be provided by Nila Martinek\, preferred caterer.
X-ALT-DESC;FMTTYPE=text/html:<span style="color: rgb(8\, 8\, 9)\; font-family: &quot\;Segoe UI Historic&quot\;\, &quot\;Segoe UI&quot\;\, Helvetica\, Arial\, sans-serif\; font-size: 15px\;">Come take a look at our private event space\, The Overlook\, upstairs at the brewery. We&#39\;ll be here to answer any questions you have. Appetizers and desserts will be provided by Nila Martinek\, preferred caterer.</span>
LOCATION:Palace City Brewing Co. 227 W Railroad Ave
UID:e.1624.39594
SEQUENCE:3
DTSTAMP:20260419T123400Z
URL:https://business.mitchellchamber.com/events/details/event-space-open-house-39594
END:VEVENT

END:VCALENDAR
