BEGIN:VCALENDAR
VERSION:2.0
PRODID:-//ChamberMaster//Event Calendar 2.0//EN
METHOD:PUBLISH
X-PUBLISHED-TTL:P3D
REFRESH-INTERVAL:P3D
CALSCALE:GREGORIAN
BEGIN:VEVENT
DTSTART:20220306T200000Z
DTEND:20220306T220000Z
X-MICROSOFT-CDO-ALLDAYEVENT:FALSE
SUMMARY:Escanaba in da Moonlight
DESCRIPTION:When the Soady clan reunites for the opening day of deer season at the family's Upper Peninsula camp\, thirty-five-year-old Reuben Soady brings with him the infamous reputation of being the oldest Soady in the history of the Soadys never to bag a buck. In a hunting story to beat all hunting stories\, ESCANABA IN DA MOONLIGHT spins a hilarious tale of humor\, horror and heart as Reuben goes to any and all lengths to remove himself from the wrong end of the family record book.
X-ALT-DESC;FMTTYPE=text/html:When the Soady clan reunites for the opening day of deer season at the family&#39\;s Upper Peninsula camp\, thirty-five-year-old Reuben Soady brings with him the infamous reputation of being the oldest Soady in the history of the Soadys never to bag a buck. In a hunting story to beat all hunting stories\, ESCANABA IN DA MOONLIGHT spins a hilarious tale of humor\, horror and heart as Reuben goes to any and all lengths to remove himself from the wrong end of the family record book.&nbsp\;
LOCATION:Pepsi Cola Theatre 700 N. Main St. Mitchell\, South Dakota
UID:e.1624.31682
SEQUENCE:3
DTSTAMP:20260422T001023Z
URL:https://business.mitchellchamber.com/events/details/escanaba-in-da-moonlight-31682
END:VEVENT

END:VCALENDAR
