BEGIN:VCALENDAR
VERSION:2.0
PRODID:-//ChamberMaster//Event Calendar 2.0//EN
METHOD:PUBLISH
X-PUBLISHED-TTL:P3D
REFRESH-INTERVAL:P3D
CALSCALE:GREGORIAN
BEGIN:VEVENT
DTSTART:20221019T160000Z
DTEND:20221019T190000Z
X-MICROSOFT-CDO-ALLDAYEVENT:FALSE
SUMMARY:Entrepreneur Resource Fair
DESCRIPTION:The Mitchell Area Chamber of Commerce is hosting an Entrepreneur Resource Fair on Wednesday\, October 19\, 2022 at the DWU Sherman Center. The fair will begin at 11 a.m. and go until 2 p.m.\n\n\n\nThe goal of this fair is to provide entrepreneurs and small business owners with 1) training opportunities\, 2) access to resource providers\, and 3) connections to people who impact entrepreneur development locally. \n\n\n\nThe fair will feature:\n\n	resources from local government\, financing agencies\, technical assistance providers\, colleges\, accountants\, lawyers\, and local business owners.\n	graduates from the CO.STARTERS Business Accelerator Program.\n	mini-seminars and speaker sessions from successful local entrepreneurs.\n	networking and mentorship opportunities.\n\nThis event is free and open to the public. There will be light refreshments and snacks available\, along with door prize giveaways. \n\n\n\nWe encourage anyone interested to attend. Whether you are already a small business owner looking to further your business ventures or an aspiring entrepreneur still developing your business idea - this event is for you! This is also a great educational opportunity for career\, technical education\, and business classes to attend.\n\n\n\nFor questions\, contact Alex Heidinger\, Program Coordinator\, at the Mitchell Chamber of Commerce.\n\n\n\nPh: 605-996-5567\n\nEmail: alex@mitchellsd.com\n\n\n\nResources:\n\nSalt & Light CPA\n\nELO CPA\n\nFirst Interstate Bank\n\nMorgan Theeler LLP\n\nCity of Mitchell\n\nSmall Business Administration (SBA)\n\nSmall Business Development Center (SBDC)\n\nBusiness Consultant Connie Schroeder\n\nFirst Dakota National Bank\n\nDakota Resources\n\nRural Electric Economic Development\n\nMitchell Area Development Corporation\n\nMitchell Technical College\n\nDakota Wesleyan University\n\nSouth Dakota State University Extension\n\nCO. STARTERS Graduates/Facilitators\n\n    - Tanya Kitto\, Your Shop\n\n    - Carrie Culhane\, Color Wheel Homes\n\n    - Laura Klock\, Farm Life Creamery\n\n\n\nMini-Seminars:\n\n\n\nWest Graham View\n\n    11:30 a.m.  - "Social Media For Your Business: 101" with Kendra Cersosimo Creative\n\n    12:30 p.m. - "Legal\, Business Management\, & Funding Panel" with Sue Stoll\, Matt Doerr\, and Don Peterson\n\n\n\nEast Graham View\n\n    11:30 a.m. - "Journey to Success" with Emily Hohn\, Anytime Fitness\n\n    12:30 p.m. - "Managing Your Human Resources" with Connie Schroeder\, CCC Consulting
X-ALT-DESC;FMTTYPE=text/html:The Mitchell Area Chamber of Commerce is hosting an Entrepreneur Resource Fair on Wednesday\, October 19\, 2022 at the DWU Sherman Center. The fair will begin at 11 a.m. and go until 2 p.m.<br />\n<br />\nThe goal of this fair is to provide entrepreneurs and small business owners with 1) training opportunities\, 2) access to resource providers\, and 3) connections to people who impact entrepreneur development locally.&nbsp\;<br />\n<br />\nThe fair will feature:\n<ul>\n	<li>resources from local government\, financing agencies\, technical assistance providers\, colleges\, accountants\, lawyers\, and local business owners.</li>\n	<li>graduates from the CO.STARTERS Business Accelerator Program.</li>\n	<li>mini-seminars and speaker sessions from successful local entrepreneurs.</li>\n	<li>networking and mentorship&nbsp\;opportunities.</li>\n</ul>\nThis event is free and open to the public. There will be light refreshments and snacks available\, along with door prize giveaways.&nbsp\;<br />\n<br />\nWe encourage anyone interested to attend. Whether you are already a small business owner looking to further your business ventures or an aspiring entrepreneur still developing your business idea - this event is for you! This is also a great educational opportunity for career\, technical education\, and business classes to attend.<br />\n<br />\nFor questions\, contact Alex Heidinger\, Program Coordinator\, at the Mitchell Chamber of Commerce.<br />\n<br />\nPh: 605-996-5567<br />\nEmail: alex@mitchellsd.com<br />\n<br />\n<strong><u>Resources</u>:</strong><br />\nSalt &amp\; Light CPA<br />\nELO CPA<br />\nFirst Interstate Bank<br />\nMorgan Theeler LLP<br />\nCity of Mitchell<br />\nSmall Business Administration (SBA)<br />\nSmall Business Development Center (SBDC)<br />\nBusiness Consultant Connie Schroeder<br />\nFirst Dakota National Bank<br />\nDakota Resources<br />\nRural Electric Economic Development<br />\nMitchell Area Development Corporation<br />\nMitchell Technical College<br />\nDakota Wesleyan University<br />\nSouth Dakota State University Extension<br />\nCO. STARTERS Graduates/Facilitators<br />\n&nbsp\;&nbsp\;&nbsp\;&nbsp\;- Tanya Kitto\, Your Shop<br />\n&nbsp\;&nbsp\;&nbsp\;&nbsp\;- Carrie Culhane\, Color Wheel Homes<br />\n&nbsp\;&nbsp\;&nbsp\;&nbsp\;- Laura Klock\, Farm Life Creamery<br />\n<br />\n<strong><u>Mini-Seminars</u>:</strong><br />\n<br />\n<u>West Graham View</u><br />\n&nbsp\;&nbsp\;&nbsp\;&nbsp\;11:30 a.m.&nbsp\; - &quot\;Social Media For Your Business: 101&quot\; with Kendra Cersosimo Creative<br />\n&nbsp\;&nbsp\;&nbsp\;&nbsp\;12:30 p.m. - &quot\;Legal\, Business Management\, &amp\; Funding Panel&quot\; with Sue Stoll\, Matt Doerr\, and Don Peterson<br />\n<br />\n<u>East Graham View</u><br />\n&nbsp\;&nbsp\;&nbsp\;&nbsp\;11:30 a.m. - &quot\;Journey to Success&quot\; with Emily Hohn\, Anytime Fitness<br />\n&nbsp\;&nbsp\;&nbsp\;&nbsp\;12:30 p.m. - &quot\;Managing Your Human Resources&quot\; with Connie Schroeder\, CCC Consulting<br />\n&nbsp\;
LOCATION:DWU Sherman Center 1200 W University Ave Mitchell\, SD 57301
UID:e.1624.32827
SEQUENCE:3
DTSTAMP:20260421T170153Z
URL:https://business.mitchellchamber.com/events/details/entrepreneur-resource-fair-32827
END:VEVENT

END:VCALENDAR
