BEGIN:VCALENDAR
VERSION:2.0
PRODID:-//ChamberMaster//Event Calendar 2.0//EN
METHOD:PUBLISH
X-PUBLISHED-TTL:P3D
REFRESH-INTERVAL:P3D
CALSCALE:GREGORIAN
BEGIN:VEVENT
DTSTART:20180327T230000Z
DTEND:20180328T003000Z
X-MICROSOFT-CDO-ALLDAYEVENT:FALSE
SUMMARY:"Engaging Through the Stages of Dementia"
DESCRIPTION:Educational seminar for families and friends who know someone living with Alzheimer's or another form of dementia. Advice and guidance from a Memory Care expert about now to navigate this disease.
X-ALT-DESC;FMTTYPE=text/html:Educational seminar for families and friends who know someone living with Alzheimer&#39\;s or another form of dementia. Advice and guidance from a Memory Care expert about now to navigate this disease.
LOCATION:Edgewood Memory Care 2201 N Wisconsin Mitchell SD
UID:e.1624.14210
SEQUENCE:3
DTSTAMP:20260425T173457Z
URL:https://business.mitchellchamber.com/events/details/engaging-through-the-stages-of-dementia-14210
END:VEVENT

END:VCALENDAR
