BEGIN:VCALENDAR
VERSION:2.0
PRODID:-//ChamberMaster//Event Calendar 2.0//EN
METHOD:PUBLISH
X-PUBLISHED-TTL:P3D
REFRESH-INTERVAL:P3D
CALSCALE:GREGORIAN
BEGIN:VEVENT
DTSTART:20171124T133000Z
DTEND:20171124T233000Z
X-MICROSOFT-CDO-ALLDAYEVENT:FALSE
SUMMARY:EmBe of Mitchell No School Day Camps
DESCRIPTION:EmBe's Got Talent: Be prepared to show us your talent!
X-ALT-DESC;FMTTYPE=text/html:EmBe&#39\;s Got Talent: Be prepared to show us your talent!
LOCATION:
UID:e.1624.9183
SEQUENCE:3
DTSTAMP:20260426T000722Z
URL:https://business.mitchellchamber.com/events/details/embe-of-mitchell-no-school-day-camps-9183
END:VEVENT

END:VCALENDAR
