BEGIN:VCALENDAR
VERSION:2.0
PRODID:-//ChamberMaster//Event Calendar 2.0//EN
METHOD:PUBLISH
X-PUBLISHED-TTL:P3D
REFRESH-INTERVAL:P3D
CALSCALE:GREGORIAN
BEGIN:VEVENT
DTSTART:20181227T133000Z
DTEND:20181228T000000Z
X-MICROSOFT-CDO-ALLDAYEVENT:FALSE
SUMMARY:EmBe of Mitchell No School Day Camp
DESCRIPTION:Imagination Creations: A day filled with crafts and art projects for everyone. Let your imagination go wild and have some fun.
X-ALT-DESC;FMTTYPE=text/html:Imagination Creations: A day filled with crafts and art projects for everyone. Let your imagination go wild and have some fun.
LOCATION:L.B Williams Elementary School 1420 W. University Ave Mitchell\, SD 57301
UID:e.1624.20334
SEQUENCE:3
DTSTAMP:20260424T201957Z
URL:https://business.mitchellchamber.com/events/details/embe-of-mitchell-no-school-day-camp-12-27-2018-20334
END:VEVENT

END:VCALENDAR
