BEGIN:VCALENDAR
VERSION:2.0
PRODID:-//ChamberMaster//Event Calendar 2.0//EN
METHOD:PUBLISH
X-PUBLISHED-TTL:P3D
REFRESH-INTERVAL:P3D
CALSCALE:GREGORIAN
BEGIN:VEVENT
DTSTART:20181226T133000Z
DTEND:20181227T000000Z
X-MICROSOFT-CDO-ALLDAYEVENT:FALSE
SUMMARY:EmBe of Mitchell No School Day Camp
DESCRIPTION:Slumber Party: Come in your PJ's relax and have fun with friends!! Board games and movies.
X-ALT-DESC;FMTTYPE=text/html:Slumber Party: Come in your PJ&#39\;s relax and have fun with friends!! Board games and movies.
LOCATION:L.B Williams Elementary School
UID:e.1624.19721
SEQUENCE:3
DTSTAMP:20260424T202634Z
URL:https://business.mitchellchamber.com/events/details/embe-of-mitchell-no-school-day-camp-12-26-2018-19721
END:VEVENT

END:VCALENDAR
