BEGIN:VCALENDAR
VERSION:2.0
PRODID:-//ChamberMaster//Event Calendar 2.0//EN
METHOD:PUBLISH
X-PUBLISHED-TTL:P3D
REFRESH-INTERVAL:P3D
CALSCALE:GREGORIAN
BEGIN:VEVENT
DTSTART:20181123T133000Z
DTEND:20181124T000000Z
X-MICROSOFT-CDO-ALLDAYEVENT:FALSE
SUMMARY:EmBe of Mitchell No School Day Camp
DESCRIPTION:Build it: Bring your imagination and let's build with Lego's. Can't wait to see what you come up with!
X-ALT-DESC;FMTTYPE=text/html:Build it: Bring your imagination and let&#39\;s build with Lego&#39\;s. Can&#39\;t wait to see what you come up with!
LOCATION:John Paul II Elementary School 1510 W. Elm St. Mitchell\, SD 57301
UID:e.1624.18499
SEQUENCE:3
DTSTAMP:20260425T040209Z
URL:https://business.mitchellchamber.com/events/details/embe-of-mitchell-no-school-day-camp-11-23-2018-18499
END:VEVENT

END:VCALENDAR
