BEGIN:VCALENDAR
VERSION:2.0
PRODID:-//ChamberMaster//Event Calendar 2.0//EN
METHOD:PUBLISH
X-PUBLISHED-TTL:P3D
REFRESH-INTERVAL:P3D
CALSCALE:GREGORIAN
BEGIN:VEVENT
DTSTART:20181116T133000Z
DTEND:20181117T000000Z
X-MICROSOFT-CDO-ALLDAYEVENT:FALSE
SUMMARY:EmBe of Mitchell No School Day Camp
DESCRIPTION:Friendship Day: Make a new friend today! Pick someone in the program that you have never played with. Spend some quality time with them. Playing games or ask them to join your team.
X-ALT-DESC;FMTTYPE=text/html:Friendship Day: Make a new friend today! Pick someone in the program that you have never played with. Spend some quality time with them. Playing games or ask them to join your team.
LOCATION:1420 W. University Ave. Mitchell\, SD 57301
UID:e.1624.18498
SEQUENCE:3
DTSTAMP:20260425T040401Z
URL:https://business.mitchellchamber.com/events/details/embe-of-mitchell-no-school-day-camp-11-16-2018-18498
END:VEVENT

END:VCALENDAR
