BEGIN:VCALENDAR
VERSION:2.0
PRODID:-//ChamberMaster//Event Calendar 2.0//EN
METHOD:PUBLISH
X-PUBLISHED-TTL:P3D
REFRESH-INTERVAL:P3D
CALSCALE:GREGORIAN
BEGIN:VEVENT
DTSTART:20180416T123000Z
DTEND:20180416T223000Z
X-MICROSOFT-CDO-ALLDAYEVENT:FALSE
SUMMARY:EmBe of Mitchell No School Day Camp
DESCRIPTION:Friendship Day: Make a New friend today!! Pick someone in the program that you have never played with. Spend some quality time with them. Play cards or a board game!
X-ALT-DESC;FMTTYPE=text/html:Friendship Day: Make a New friend today!! Pick someone in the program that you have never played with. Spend some quality time with them. Play cards or a board game!
LOCATION:L.B. Williams Elementary School 1420 W. University Ave Mitchell\, SD 57301
UID:e.1624.14704
SEQUENCE:3
DTSTAMP:20260425T161954Z
URL:https://business.mitchellchamber.com/events/details/embe-of-mitchell-no-school-day-camp-04-16-2018-14704
END:VEVENT

END:VCALENDAR
