BEGIN:VCALENDAR
VERSION:2.0
PRODID:-//ChamberMaster//Event Calendar 2.0//EN
METHOD:PUBLISH
X-PUBLISHED-TTL:P3D
REFRESH-INTERVAL:P3D
CALSCALE:GREGORIAN
BEGIN:VEVENT
DTSTART:20180402T123000Z
DTEND:20180402T223000Z
X-MICROSOFT-CDO-ALLDAYEVENT:FALSE
SUMMARY:EmBe of Mitchell No School Day Camp
DESCRIPTION:Amazing Race: Team building with lost of fun and laughter!
X-ALT-DESC;FMTTYPE=text/html:Amazing Race: Team building with lost of fun and laughter!
LOCATION:L.B Williams Elementary School 1420 University Ave Mitchell\, SD 57301
UID:e.1624.14454
SEQUENCE:3
DTSTAMP:20260425T162029Z
URL:https://business.mitchellchamber.com/events/details/embe-of-mitchell-no-school-day-camp-04-02-2018-14454
END:VEVENT

END:VCALENDAR
