BEGIN:VCALENDAR
VERSION:2.0
PRODID:-//ChamberMaster//Event Calendar 2.0//EN
METHOD:PUBLISH
X-PUBLISHED-TTL:P3D
REFRESH-INTERVAL:P3D
CALSCALE:GREGORIAN
BEGIN:VEVENT
DTSTART:20180330T123000Z
DTEND:20180330T223000Z
X-MICROSOFT-CDO-ALLDAYEVENT:FALSE
SUMMARY:EmBe of Mitchell No School Day Camp
DESCRIPTION:EmBe's Got Talent: Be Prepared to show us your talent!
X-ALT-DESC;FMTTYPE=text/html:EmBe&#39\;s Got Talent: Be Prepared to show us your talent!
LOCATION:First United Methodist Church 310 N. Rowley Street Mitchell\, SD 57301
UID:e.1624.14336
SEQUENCE:3
DTSTAMP:20260425T173457Z
URL:https://business.mitchellchamber.com/events/details/embe-of-mitchell-no-school-day-camp-03-30-2018-14336
END:VEVENT

END:VCALENDAR
