BEGIN:VCALENDAR
VERSION:2.0
PRODID:-//ChamberMaster//Event Calendar 2.0//EN
METHOD:PUBLISH
X-PUBLISHED-TTL:P3D
REFRESH-INTERVAL:P3D
CALSCALE:GREGORIAN
BEGIN:VEVENT
DTSTART:20180219T133000Z
DTEND:20180219T233000Z
X-MICROSOFT-CDO-ALLDAYEVENT:FALSE
SUMMARY:EmBe of Mitchell No School Day Camp
DESCRIPTION:PJ Day: Bring your favorite CD's and pillow and blanket. Enjoy a day full of fun!
X-ALT-DESC;FMTTYPE=text/html:PJ Day: Bring your favorite CD&#39\;s and pillow and blanket. Enjoy a day full of fun!
LOCATION:James Valley Community Center
UID:e.1624.11449
SEQUENCE:3
DTSTAMP:20260425T185744Z
URL:https://business.mitchellchamber.com/events/details/embe-of-mitchell-no-school-day-camp-02-19-2018-11449
END:VEVENT

END:VCALENDAR
