BEGIN:VCALENDAR
VERSION:2.0
PRODID:-//ChamberMaster//Event Calendar 2.0//EN
METHOD:PUBLISH
X-PUBLISHED-TTL:P3D
REFRESH-INTERVAL:P3D
CALSCALE:GREGORIAN
BEGIN:VEVENT
DTSTART:20190121T133000Z
DTEND:20190122T000000Z
X-MICROSOFT-CDO-ALLDAYEVENT:FALSE
SUMMARY:EmBe of Mitchell No School Day Camp
DESCRIPTION:Build It Day: Bring your imagination and let's build with Lego's Can't wait to see what you come up with.
X-ALT-DESC;FMTTYPE=text/html:Build It Day: Bring your imagination and let&#39\;s build with Lego&#39\;s Can&#39\;t wait to see what you come up with.
LOCATION:L.B Williams Elementary School 1420 W. University Ave. Mitchell\, SD 573010
UID:e.1624.20339
SEQUENCE:3
DTSTAMP:20260424T184608Z
URL:https://business.mitchellchamber.com/events/details/embe-of-mitchell-no-school-day-camp-01-21-2019-20339
END:VEVENT

END:VCALENDAR
