BEGIN:VCALENDAR
VERSION:2.0
PRODID:-//ChamberMaster//Event Calendar 2.0//EN
METHOD:PUBLISH
X-PUBLISHED-TTL:P3D
REFRESH-INTERVAL:P3D
CALSCALE:GREGORIAN
BEGIN:VEVENT
DTSTART:20180115T133000Z
DTEND:20180115T233000Z
X-MICROSOFT-CDO-ALLDAYEVENT:FALSE
SUMMARY:EmBe of Mitchell No School Day Camp
DESCRIPTION:Mega Gym: Wear comfy clothes no buttons or sharp pieces. After back for a relaxing day.
X-ALT-DESC;FMTTYPE=text/html:Mega Gym: Wear comfy clothes no buttons or sharp pieces. After back for a relaxing day.
LOCATION:L.B Williams Elementary School
UID:e.1624.9866
SEQUENCE:3
DTSTAMP:20260425T203849Z
URL:https://business.mitchellchamber.com/events/details/embe-of-mitchell-no-school-day-camp-01-15-2018-9866
END:VEVENT

END:VCALENDAR
