BEGIN:VCALENDAR
VERSION:2.0
PRODID:-//ChamberMaster//Event Calendar 2.0//EN
METHOD:PUBLISH
X-PUBLISHED-TTL:P3D
REFRESH-INTERVAL:P3D
CALSCALE:GREGORIAN
BEGIN:VEVENT
DTSTART:20190102T133000Z
DTEND:20190103T000000Z
X-MICROSOFT-CDO-ALLDAYEVENT:FALSE
SUMMARY:EmBe of Mitchell No School Day Camp
DESCRIPTION:EmBe's Got Talent: Be prepared to show us your talent!
X-ALT-DESC;FMTTYPE=text/html:EmBe&#39\;s Got Talent: Be prepared to show us your talent!
LOCATION:L.B Williams Elementary School 1420 W. University Ave. Mitchell\, SD 57301
UID:e.1624.20338
SEQUENCE:3
DTSTAMP:20260424T184608Z
URL:https://business.mitchellchamber.com/events/details/embe-of-mitchell-no-school-day-camp-01-02-2019-20338
END:VEVENT

END:VCALENDAR
