BEGIN:VCALENDAR
VERSION:2.0
PRODID:-//ChamberMaster//Event Calendar 2.0//EN
METHOD:PUBLISH
X-PUBLISHED-TTL:P3D
REFRESH-INTERVAL:P3D
CALSCALE:GREGORIAN
BEGIN:VEVENT
DTSTART:20180210T150000Z
DTEND:20180210T210000Z
X-MICROSOFT-CDO-ALLDAYEVENT:FALSE
SUMMARY:Elks Fishing Derby
DESCRIPTION:This tournament is open to all youth from ages 2 through 18. The ice will be verified safe before any contestants go out on the lake. The Sportsmen's Club is heated and will be open during the entire Derby. Meals will be served. A limited number of fishing poles will be available if you do not have your own. Everything is free\, there is absolutely no charge to anyone that shows up (including parents). There will be over $5\,000 in prizes awarded to the youth which have been donated by Mitchell Businesses and the Mitchell Elks.
X-ALT-DESC;FMTTYPE=text/html:This tournament is open to all youth from ages 2 through 18. The ice will be verified safe before any contestants go out on the lake. The Sportsmen&#39\;s Club is heated and will be open during the entire Derby. Meals will be served. A limited number of fishing poles will be available if you do not have your own. Everything is free\, there is absolutely no charge to anyone that shows up (including parents). There will be over $5\,000 in prizes awarded to the youth which have been donated by Mitchell Businesses and the Mitchell Elks.
LOCATION:Sportsmen's Club - Lake Mitchell
UID:e.1624.9762
SEQUENCE:3
DTSTAMP:20260425T185615Z
URL:https://business.mitchellchamber.com/events/details/elks-fishing-derby-9762
END:VEVENT

END:VCALENDAR
