BEGIN:VCALENDAR
VERSION:2.0
PRODID:-//ChamberMaster//Event Calendar 2.0//EN
METHOD:PUBLISH
X-PUBLISHED-TTL:P3D
REFRESH-INTERVAL:P3D
CALSCALE:GREGORIAN
BEGIN:VEVENT
DTSTART:20220426T000000Z
DTEND:20220428T023000Z
X-MICROSOFT-CDO-ALLDAYEVENT:FALSE
SUMMARY:El Riad Shrine Circus- Mitchell
DESCRIPTION:El Riad Shrine Circus - Five spectacular performances at the Mitchell Corn Palace!\n\nOnline ticket sales begin Tuesday\, March 29
X-ALT-DESC;FMTTYPE=text/html:El Riad Shrine Circus - Five spectacular performances at the Mitchell Corn Palace!<br />\nOnline ticket sales begin Tuesday\, March 29&nbsp\;
LOCATION:Corn Palace Mitchell\, South Dakota
UID:e.1624.32436
SEQUENCE:3
DTSTAMP:20260422T031814Z
URL:https://business.mitchellchamber.com/events/details/el-riad-shrine-circus-mitchell-32436
END:VEVENT

END:VCALENDAR
