BEGIN:VCALENDAR
VERSION:2.0
PRODID:-//ChamberMaster//Event Calendar 2.0//EN
METHOD:PUBLISH
X-PUBLISHED-TTL:P3D
REFRESH-INTERVAL:P3D
CALSCALE:GREGORIAN
BEGIN:VEVENT
DTSTART:20220417T143000Z
DTEND:20220417T150000Z
X-MICROSOFT-CDO-ALLDAYEVENT:FALSE
SUMMARY:Easter Egg Hunt
DESCRIPTION:The Fusion Easter Egg Hunt is back! Our free Easter Egg Hunt starts at 9:30am on the DWU Sherman Center Green!\n\n\n\nJoin us for refreshments and our Easter Service after the hunt at 10 AM inside the DWU Sherman Center. \n\n\n\nAll are welcome!
X-ALT-DESC;FMTTYPE=text/html:<span style="background-color:rgb(248\, 248\, 248)\; color:rgb(29\, 28\, 29)\; font-family:slack-lato\,slack-fractions\,applelogo\,sans-serif\; font-size:15px">The Fusion Easter Egg Hunt is back! Our free Easter Egg Hunt starts at 9:30am on the DWU Sherman Center Green!</span><br />\n<br />\n<span style="background-color:rgb(248\, 248\, 248)\; color:rgb(29\, 28\, 29)\; font-family:slack-lato\,slack-fractions\,applelogo\,sans-serif\; font-size:15px">Join us for refreshments and our Easter Service after the hunt at 10 AM inside the DWU Sherman Center.</span><span dir="ltr" style="background-color:rgb(248\, 248\, 248)\; color:rgba(var(--sk_foreground_high_solid\,134\,134\,134)\,1)\; font-family:slack-lato\,slack-fractions\,applelogo\,sans-serif">&nbsp\;<br />\n<br />\nAll are welcome!</span>
LOCATION:DWU Sherman Center
UID:e.1624.32435
SEQUENCE:3
DTSTAMP:20260422T032318Z
URL:https://business.mitchellchamber.com/events/details/easter-egg-hunt-05-12-2022-32435
END:VEVENT

END:VCALENDAR
