BEGIN:VCALENDAR
VERSION:2.0
PRODID:-//ChamberMaster//Event Calendar 2.0//EN
METHOD:PUBLISH
X-PUBLISHED-TTL:P3D
REFRESH-INTERVAL:P3D
CALSCALE:GREGORIAN
BEGIN:VEVENT
DTSTART;VALUE=DATE:20260502
DTEND;VALUE=DATE:20260503
TRANSP:TRANSPARENT
X-MICROSOFT-CDO-ALLDAYEVENT:TRUE
SUMMARY:Early Bird Baseball Tournament
DESCRIPTION:Step up to the plate at the Early Bird Baseball Tournament in Mitchell\, SD! Set for May 2\, 2026\, with Sunday\, May 3 serving as a rain date. The one-day event includes four divisions: 12U\, 11U\, 10U\, and 9U. Open to teams from all communities. The tournament will follow South Dakota Class A Baseball Association rules and guarantees each team 3 games.
X-ALT-DESC;FMTTYPE=text/html:Step up to the plate at the Early Bird Baseball Tournament in Mitchell\, SD! Set for May 2\, 2026\, with Sunday\, May 3 serving as a rain date. The one-day event includes four divisions: 12U\, 11U\, 10U\, and 9U. Open to teams from all communities. The tournament will follow South Dakota Class A Baseball Association rules and guarantees each team 3 games.
LOCATION:Cadwell Sports Complex
UID:e.1624.42881
SEQUENCE:3
DTSTAMP:20260421T094220Z
URL:https://business.mitchellchamber.com/events/details/early-bird-baseball-tournament-42881
END:VEVENT

END:VCALENDAR
