BEGIN:VCALENDAR
VERSION:2.0
PRODID:-//ChamberMaster//Event Calendar 2.0//EN
METHOD:PUBLISH
X-PUBLISHED-TTL:P3D
REFRESH-INTERVAL:P3D
CALSCALE:GREGORIAN
BEGIN:VEVENT
DTSTART:20181213T000000Z
DTEND:20181213T013000Z
X-MICROSOFT-CDO-ALLDAYEVENT:FALSE
SUMMARY:DWU Women's vs Dakota State University
DESCRIPTION:http://cornpalace.com/calendar.aspx?EID=287
X-ALT-DESC;FMTTYPE=text/html: http://cornpalace.com/calendar.aspx?EID=287
LOCATION:The World's Only Corn Palace - 604 N Main St Mitchell SD 57301
UID:e.1624.20643
SEQUENCE:3
DTSTAMP:20260424T201934Z
URL:https://business.mitchellchamber.com/events/details/dwu-women-s-vs-dakota-state-university-12-12-2018-20643
END:VEVENT

END:VCALENDAR
