BEGIN:VCALENDAR
VERSION:2.0
PRODID:-//ChamberMaster//Event Calendar 2.0//EN
METHOD:PUBLISH
X-PUBLISHED-TTL:P3D
REFRESH-INTERVAL:P3D
CALSCALE:GREGORIAN
BEGIN:VEVENT
DTSTART:20240222T000000Z
DTEND:20240222T040000Z
X-MICROSOFT-CDO-ALLDAYEVENT:FALSE
SUMMARY:DWU Women's & Men's Basketball
DESCRIPTION:DWU Men's and Women's Basketball VS Dordt
X-ALT-DESC;FMTTYPE=text/html:<h2 id="ctl00_ctl00_MainContent_ModuleContent_ctl00_ctl04_eventTitle" style="box-sizing: content-box\; margin: 0px 0px 3px\; padding: 0px 50px 0px 0px\; border: 0px\; outline: 0px\; font-weight: bold\; font-size: 15pt\; font-family: inherit\; vertical-align: baseline\;"><span itemprop="name" style="box-sizing: content-box\; margin: 0px\; padding: 0px\; border: 0px\; font-size: 15.2px\; font-family: &quot\;Source Sans Pro&quot\;\; vertical-align: baseline\; outline: 0px\;">DWU Men&#39\;s and Women&#39\;s Basketball VS Dordt</span></h2>\n\n<div class="detailDateDesc" style="box-sizing: content-box\; margin: 0px\; padding: 0px\; border: 0px\; outline: 0px\; font-size: 15.2px\; font-family: &quot\;Source Sans Pro&quot\;\; vertical-align: baseline\; min-height: 55px\;">&nbsp\;</div>\n\n<div class="detailDateDesc" style="box-sizing: content-box\; margin: 0px\; padding: 0px\; border: 0px\; outline: 0px\; font-size: 15.2px\; font-family: &quot\;Source Sans Pro&quot\;\; vertical-align: baseline\; min-height: 55px\;">&nbsp\;</div>\n\n<div class="detailDateDesc" style="box-sizing: content-box\; margin: 0px\; padding: 0px\; border: 0px\; outline: 0px\; font-size: 15.2px\; font-family: &quot\;Source Sans Pro&quot\;\; vertical-align: baseline\; min-height: 55px\;">&nbsp\;</div>\n\n<div class="detailDateDesc" style="box-sizing: content-box\; margin: 0px\; padding: 0px\; border: 0px\; outline: 0px\; font-size: 15.2px\; font-family: &quot\;Source Sans Pro&quot\;\; vertical-align: baseline\; min-height: 55px\;">&nbsp\;</div>\n\n<div class="detailDateDesc" style="box-sizing: content-box\; margin: 0px\; padding: 0px\; border: 0px\; outline: 0px\; font-size: 15.2px\; font-family: &quot\;Source Sans Pro&quot\;\; vertical-align: baseline\; min-height: 55px\;">&nbsp\;</div>\n
LOCATION:The Corn Palace 604 N. Main St. Mitchell\, SD 57301
UID:e.1624.35132
SEQUENCE:3
DTSTAMP:20260420T161242Z
URL:https://business.mitchellchamber.com/events/details/dwu-women-s-men-s-basketball-35132
END:VEVENT

END:VCALENDAR
