BEGIN:VCALENDAR
VERSION:2.0
PRODID:-//ChamberMaster//Event Calendar 2.0//EN
METHOD:PUBLISH
X-PUBLISHED-TTL:P3D
REFRESH-INTERVAL:P3D
CALSCALE:GREGORIAN
BEGIN:VEVENT
DTSTART:20231130T000000Z
DTEND:20231130T040000Z
X-MICROSOFT-CDO-ALLDAYEVENT:FALSE
SUMMARY:DWU Women's & Men's Basketball
DESCRIPTION:DWU Women and Men vs Jamestown\, ND
X-ALT-DESC;FMTTYPE=text/html:<p id="ctl00_ctl00_MainContent_ModuleContent_ctl00_ctl04_eventTitle">DWU Women and Men vs Jamestown\, ND</p>\n\n<p min-height:="" sans="" source="" vertical-align:="">&nbsp\;</p>\n
LOCATION:The Corn Palace 604 N. Main St. Mitchell\, SD 57301
UID:e.1624.35105
SEQUENCE:3
DTSTAMP:20260420T154828Z
URL:https://business.mitchellchamber.com/events/details/dwu-women-s-men-s-basketball-35105
END:VEVENT

END:VCALENDAR
