BEGIN:VCALENDAR
VERSION:2.0
PRODID:-//ChamberMaster//Event Calendar 2.0//EN
METHOD:PUBLISH
X-PUBLISHED-TTL:P3D
REFRESH-INTERVAL:P3D
CALSCALE:GREGORIAN
BEGIN:VEVENT
DTSTART:20180218T220000Z
DTEND:20180218T233000Z
X-MICROSOFT-CDO-ALLDAYEVENT:FALSE
SUMMARY:DWU Winter Choir\, Handbell Concert
DESCRIPTION:Dakota Wesleyan University's choirs will perform the free concert\, "Sing a New Song Unto the Lord." The choirs performing include the Highlanders\, Dakota Wesleyan Choir\, the Singing Scotchmen\, Wesleyan Bells\, and the newly renamed women's chamber choir\, the Dakota Dynamics.
X-ALT-DESC;FMTTYPE=text/html:<span style="color:rgb(52\, 52\, 52)\; font-family:tahoma\,geneva\,sans-serif\; font-size:16px">Dakota Wesleyan University&#39\;s choirs will perform the free concert\, &ldquo\;Sing a New Song Unto the Lord.&quot\; The choirs&nbsp\;performing include the Highlanders\, Dakota Wesleyan Choir\, the Singing Scotchmen\, Wesleyan Bells\, and the newly renamed women&rsquo\;s chamber choir\, the Dakota Dynamics.</span>
LOCATION:First United Methodist Church\, Mitchell\, SD
UID:e.1624.12226
SEQUENCE:3
DTSTAMP:20260425T185636Z
URL:https://business.mitchellchamber.com/events/details/dwu-winter-choir-handbell-concert-12226
END:VEVENT

END:VCALENDAR
