BEGIN:VCALENDAR
VERSION:2.0
PRODID:-//ChamberMaster//Event Calendar 2.0//EN
METHOD:PUBLISH
X-PUBLISHED-TTL:P3D
REFRESH-INTERVAL:P3D
CALSCALE:GREGORIAN
BEGIN:VEVENT
DTSTART:20180211T220000Z
DTEND:20180211T233000Z
X-MICROSOFT-CDO-ALLDAYEVENT:FALSE
SUMMARY:DWU Winter Band\, LyricWood Concert
DESCRIPTION:The Dakota Wesleyan Band and LyricWood Orchestra will perform a free winter concert and showcase the premiere of "A Higher Plain\," written by South Dakota musician Jeremy Hegg and inspired by George McGovern.
X-ALT-DESC;FMTTYPE=text/html:The Dakota Wesleyan Band and LyricWood Orchestra will perform a free winter concert and showcase the premiere of &quot\;A Higher Plain\,&quot\; written by South Dakota musician Jeremy Hegg and inspired by George McGovern.
LOCATION:DWU Sherman Center
UID:e.1624.11491
SEQUENCE:3
DTSTAMP:20260425T185743Z
URL:https://business.mitchellchamber.com/events/details/dwu-winter-band-lyricwood-concert-11491
END:VEVENT

END:VCALENDAR
