BEGIN:VCALENDAR
VERSION:2.0
PRODID:-//ChamberMaster//Event Calendar 2.0//EN
METHOD:PUBLISH
X-PUBLISHED-TTL:P3D
REFRESH-INTERVAL:P3D
CALSCALE:GREGORIAN
BEGIN:VEVENT
DTSTART:20231105T003000Z
DTEND:20231105T023000Z
X-MICROSOFT-CDO-ALLDAYEVENT:FALSE
SUMMARY:DWU Theatre presents "Hedda Gabler"
DESCRIPTION:By Henrik Ibsen\n\nA new version by Patrick Marber \n\nFrom a literal translation by Karin & Ann Bamborough
X-ALT-DESC;FMTTYPE=text/html:<p font-size:="" gandhi="">By Henrik Ibsen</p>\n\n<p font-size:="" gandhi="">A new version by Patrick Marber&nbsp\;</p>\n\n<p font-size:="" gandhi="">From a literal translation by Karin &amp\; Ann Bamborough</p>\n
LOCATION:1200 W University Ave Mitchell\, SD 57301 DWU Black Box Theatre in the Dakota Discovery Museum
UID:e.1624.34754
SEQUENCE:3
DTSTAMP:20260420T142034Z
URL:https://business.mitchellchamber.com/events/details/dwu-theatre-presents-hedda-gabler-34754
END:VEVENT

END:VCALENDAR
