BEGIN:VCALENDAR
VERSION:2.0
PRODID:-//ChamberMaster//Event Calendar 2.0//EN
METHOD:PUBLISH
X-PUBLISHED-TTL:P3D
REFRESH-INTERVAL:P3D
CALSCALE:GREGORIAN
BEGIN:VEVENT
DTSTART:20180224T160000Z
DTEND:20180224T180000Z
X-MICROSOFT-CDO-ALLDAYEVENT:FALSE
SUMMARY:DWU's Dr. Seuss Carnvial
DESCRIPTION:DWU's Future Teachers Organization will present its 20th Dr. Seuss Carnival for children pre-K to fifth-grade. Free event\; children must be chaperoned.
X-ALT-DESC;FMTTYPE=text/html:DWU&#39\;s Future Teachers Organization will present its 20th Dr. Seuss Carnival for children pre-K to fifth-grade. Free event\; children must be chaperoned.&nbsp\;
LOCATION:LB Williams Elementary\, commons area
UID:e.1624.9068
SEQUENCE:3
DTSTAMP:20260425T185600Z
URL:https://business.mitchellchamber.com/events/details/dwu-s-dr-seuss-carnvial-9068
END:VEVENT

END:VCALENDAR
