BEGIN:VCALENDAR
VERSION:2.0
PRODID:-//ChamberMaster//Event Calendar 2.0//EN
METHOD:PUBLISH
X-PUBLISHED-TTL:P3D
REFRESH-INTERVAL:P3D
CALSCALE:GREGORIAN
BEGIN:VEVENT
DTSTART:20220323T000000Z
DTEND:20220323T013000Z
X-MICROSOFT-CDO-ALLDAYEVENT:FALSE
SUMMARY:DWU’s Carhart lecture to address climate change
DESCRIPTION:Dakota Wesleyan University is offering a year-long free Lecture Series on topics of contemporary interest.\n\nThe third in the series will be held on Tuesday\, Mar. 22\, at 7 p.m. in the Pratt Alumni Board Room in the new School of Business\, Leadership and Innovation on the DWU campus. Dr. Rachel Lamb is a Maryland Sea Grant State Science Policy Fellow working with the Maryland Department of the Environment Climate Change Program.  \n\nLamb is one of the founders of Young Evangelicals for Climate Action and currently serves as a senior advisor to the organization. In 2015\, Lamb was named a White House Champion of Change for her efforts in protecting our environment and communities from the effects of climate change. Her lectures will address finding connections between faith and climate action.\n\nLamb's presentation is entitled "Ecosystem Restoration as a Tool for Climate Mitigation: Quantifying the Carbon Benefits of Our Natural and Working Land."\n\nThe Carhart Lectures were endowed by DWU alumnus Homer Carhart '36\, whose engineering firm provided services to the armed forces for many years. Carhart served on the panel of experts who investigated the explosion aboard the spaceship Challenger.\n\nThe annual Stark lecture will round out this year's series.  Harry Boyte of Minneapolis\, Minn.\, will speak on "The Role of Small Colleges in Developing a Healthy Democracy."  Boyte's presentation will be held on Wednesday\, Apr. 13.\n\nAll presentations are free and open to the public. Each lecture begins at 7 p.m. in the Pratt Alumni Board Room in the new School of Business\, Leadership and Innovation and will also be livestreamed at dwu.edu/live.  All events are subject to necessary COVID protocols as each situation requires. Check the DWU website events calendar or social media for updates.\n\nThese events are made possible in part by funds from a Network for Vocation in Undergraduate Education (NetVUE) Network Across the Academy grant (Community Partnership initiative). Nearly $700\,000 in grants were awarded to Council of Independent Colleges member institutions to help campus leaders support vocational exploration and discernment among undergraduate students.
X-ALT-DESC;FMTTYPE=text/html:<span style="layout-grid-mode:line\;"><span style="color:black\;"><span style="font-size:11.0pt\;">Dakota Wesleyan University is offering a year-long free Lecture Series on topics of contemporary interest.</span></span></span><br />\n<span style="font-size:11pt\;">The third in the series will be held on Tuesday\, Mar. 22\, at 7 p.m. in the Pratt Alumni Board Room in the new School of Business\, Leadership and Innovation on the DWU campus. Dr. Rachel Lamb is a Maryland Sea Grant State Science Policy Fellow working with the Maryland Department of the Environment Climate Change Program. </span>&nbsp\;<br />\n<span style="font-size:11pt\;">Lamb is one of the founders of Young Evangelicals for Climate Action and currently serves as a senior advisor to the organization. In 2015\, Lamb was named a&nbsp\;White House Champion of Change&nbsp\;for her efforts in protecting our environment and communities from the effects of climate change. Her lectures will address finding connections between faith and climate action.</span><br />\n<span style="font-size:11pt\;">Lamb&rsquo\;s presentation is entitled &ldquo\;Ecosystem Restoration as a Tool for Climate Mitigation: Quantifying the Carbon Benefits of Our Natural and Working Land.&rdquo\;</span><br />\n<span style="font-size:11pt\;">The Carhart Lectures were endowed by DWU alumnus Homer Carhart &rsquo\;36\, whose engineering firm provided services to the armed forces for many years. Carhart served on the panel of experts who investigated the explosion aboard the spaceship Challenger.</span><br />\n<span style="font-size:11pt\;">The annual Stark lecture will round out this year&rsquo\;s series.</span>&nbsp\; <span style="font-size:11pt\;">Harry Boyte of Minneapolis\, Minn.\, will speak on &ldquo\;The Role of Small Colleges in Developing a Healthy Democracy.&rdquo\;</span>&nbsp\; <span style="font-size:11pt\;">Boyte&rsquo\;s presentation will be held on Wednesday\, Apr. 13.</span><br />\n<span style="font-size:11pt\;">All presentations are free and open to the public. Each lecture begins at 7 p.m. in the Pratt Alumni Board Room in the new School of Business\, Leadership and Innovation and will also be livestreamed at dwu.edu/live.</span>&nbsp\; <span style="font-size:11pt\;">All events are subject to necessary COVID protocols as each situation requires. Check the DWU website events calendar or social media for updates.</span><br />\n<span style="font-size:11pt\;">These events are made possible in part by funds from a Network for Vocation in Undergraduate Education (NetVUE) Network Across the Academy grant (Community Partnership initiative). Nearly $700\,000 in grants were awarded to Council of Independent Colleges member institutions to help campus leaders support vocational exploration and discernment among undergraduate students.</span>
LOCATION:Dakota Wesleyan University 1200 West University Pratt Alumni Board Room in the new School of Business\, Leadership and Innovation
UID:e.1624.32181
SEQUENCE:3
DTSTAMP:20260422T001337Z
URL:https://business.mitchellchamber.com/events/details/dwu-s-carhart-lecture-to-address-climate-change-32181
END:VEVENT

END:VCALENDAR
