BEGIN:VCALENDAR
VERSION:2.0
PRODID:-//ChamberMaster//Event Calendar 2.0//EN
METHOD:PUBLISH
X-PUBLISHED-TTL:P3D
REFRESH-INTERVAL:P3D
CALSCALE:GREGORIAN
BEGIN:VEVENT
DTSTART:20180325T190000Z
DTEND:20180325T213000Z
X-MICROSOFT-CDO-ALLDAYEVENT:FALSE
SUMMARY:DWU production "Tartuffe"
DESCRIPTION:The Ron and Sheilah Gates Department of Theatre at Dakota Wesleyan University will present "Tartuffe\," by Moliere.
X-ALT-DESC;FMTTYPE=text/html:The Ron and Sheilah Gates Department of Theatre at Dakota Wesleyan University will present &quot\;Tartuffe\,&quot\; by Moliere.
LOCATION:DWU Theatre\, McGovern Avenue
UID:e.1624.12968
SEQUENCE:3
DTSTAMP:20260425T173408Z
URL:https://business.mitchellchamber.com/events/details/dwu-production-tartuffe-03-25-2018-12968
END:VEVENT

END:VCALENDAR
