BEGIN:VCALENDAR
VERSION:2.0
PRODID:-//ChamberMaster//Event Calendar 2.0//EN
METHOD:PUBLISH
X-PUBLISHED-TTL:P3D
REFRESH-INTERVAL:P3D
CALSCALE:GREGORIAN
BEGIN:VEVENT
DTSTART:20220825T170000Z
DTEND:20220825T190000Z
X-MICROSOFT-CDO-ALLDAYEVENT:FALSE
SUMMARY:DWU Presidential Inauguration Community Celebration
DESCRIPTION:The Inauguration of Dr. Daniel R. Kittle as the 21st President of Dakota Wesleyan University will take place on Thursday\, August 25\, 2022 with a community celebration at noon outside of the DWU Sherman Center.
X-ALT-DESC;FMTTYPE=text/html:The Inauguration of Dr. Daniel R. Kittle as the 21st President of Dakota Wesleyan University will take place on Thursday\, August 25\, 2022 with a community celebration at noon outside of the DWU Sherman Center.
LOCATION:Outside of the DWU Sherman Center In case of inclement weather\, this event will be held at the Christen Family Athletic Center.
UID:e.1624.32680
SEQUENCE:3
DTSTAMP:20260421T201942Z
URL:https://business.mitchellchamber.com/events/details/dwu-presidential-inauguration-community-celebration-32680
END:VEVENT

END:VCALENDAR
