BEGIN:VCALENDAR
VERSION:2.0
PRODID:-//ChamberMaster//Event Calendar 2.0//EN
METHOD:PUBLISH
X-PUBLISHED-TTL:P3D
REFRESH-INTERVAL:P3D
CALSCALE:GREGORIAN
BEGIN:VEVENT
DTSTART:20240225T220000Z
DTEND:20240226T000000Z
X-MICROSOFT-CDO-ALLDAYEVENT:FALSE
SUMMARY:DWU Midwinter Concert
DESCRIPTION:Join the DWU community for a performance by the Ron and Sheilah Gates Department of Music\, featuring: Dakota Wesleyan Choir\, The Highlanders\, Wesleyan Bells\, Wesleyan Band\, Wesleyan Jazz Band. Attend in person or online via www.dwu.edu/live.
X-ALT-DESC;FMTTYPE=text/html:Join the DWU community for a performance by the Ron and Sheilah Gates Department of Music\,&nbsp\;featuring: Dakota Wesleyan Choir\, The Highlanders\, Wesleyan Bells\, Wesleyan Band\, Wesleyan Jazz Band.<span font-size:="" gandhi="" style="color: rgb(2\, 42\, 82)\; font-family: ">&nbsp\;</span>Attend in person or online via&nbsp\;<a font-size:="" gandhi="" href="http://www.dwu.edu/live" target="_blank">www.dwu.edu/live</a>.&nbsp\;
LOCATION:DWU Sherman Center 1200 W University Ave Mitchell\, SD 57301
UID:e.1624.35909
SEQUENCE:3
DTSTAMP:20260420T160745Z
URL:https://business.mitchellchamber.com/events/details/dwu-midwinter-concert-35909
END:VEVENT

END:VCALENDAR
