BEGIN:VCALENDAR
VERSION:2.0
PRODID:-//ChamberMaster//Event Calendar 2.0//EN
METHOD:PUBLISH
X-PUBLISHED-TTL:P3D
REFRESH-INTERVAL:P3D
CALSCALE:GREGORIAN
BEGIN:VEVENT
DTSTART:20200301T220000Z
DTEND:20200302T000000Z
X-MICROSOFT-CDO-ALLDAYEVENT:FALSE
SUMMARY:DWU Midwinter Choir & Bells Concert
DESCRIPTION:Join the DWU choirs and handbells as they perform their midwinter concert. Selections will be announced at a later date.
X-ALT-DESC;FMTTYPE=text/html:<span style="color: rgb(29\, 33\, 41)\; font-family: Helvetica\, Arial\, sans-serif\; font-size: 14px\; white-space: pre-wrap\;">Join the DWU choirs and handbells as they perform their midwinter concert. Selections will be announced at a later date.</span>
LOCATION:Sherman Center Dakota Wesleyan University
UID:e.1624.27748
SEQUENCE:3
DTSTAMP:20260423T204500Z
URL:https://business.mitchellchamber.com/events/details/dwu-midwinter-choir-bells-concert-27748
END:VEVENT

END:VCALENDAR
