BEGIN:VCALENDAR
VERSION:2.0
PRODID:-//ChamberMaster//Event Calendar 2.0//EN
METHOD:PUBLISH
X-PUBLISHED-TTL:P3D
REFRESH-INTERVAL:P3D
CALSCALE:GREGORIAN
BEGIN:VEVENT
DTSTART:20190326T150000Z
DTEND:20190326T190000Z
X-MICROSOFT-CDO-ALLDAYEVENT:FALSE
SUMMARY:DWU Job Fair
DESCRIPTION:Dakota Wesleyan University will host a job fair on March 26\, 2019. The DWU JOB FAIR is an exclusive opportunity for employers to meet and greet the next generation of workers. Our students are eager to fill internships\, seasonal jobs\, and find meaningful careers in our region. DWU students will be dressed for success\, prepared to ask questions and submit r sum s\, all while learning from an authentic networking experience.
X-ALT-DESC;FMTTYPE=text/html:Dakota Wesleyan University will host a job fair on March 26\, 2019. The DWU JOB FAIR is an exclusive opportunity for employers to meet and greet the next generation of workers. Our students are eager to fill internships\, seasonal jobs\, and find meaningful careers in our region. DWU students will be dressed for success\, prepared to ask questions and submit r&eacute\;sum&eacute\;s\, all while learning from an authentic networking experience.
LOCATION:The DWU Job Fair will be held at the DWU/Avera Sports and Wellness Complex.
UID:e.1624.22974
SEQUENCE:3
DTSTAMP:20260424T155255Z
URL:https://business.mitchellchamber.com/events/details/dwu-job-fair-03-26-2019-22974
END:VEVENT

END:VCALENDAR
