BEGIN:VCALENDAR
VERSION:2.0
PRODID:-//ChamberMaster//Event Calendar 2.0//EN
METHOD:PUBLISH
X-PUBLISHED-TTL:P3D
REFRESH-INTERVAL:P3D
CALSCALE:GREGORIAN
BEGIN:VEVENT
DTSTART:20171012T190000Z
DTEND:20171012T210000Z
X-MICROSOFT-CDO-ALLDAYEVENT:FALSE
SUMMARY:DWU Healthcare Career Fair
DESCRIPTION:Vendors from across the region are welcoming any person interested in a healthcare-related profession. Vendors will focus on informing the public about career opportunities\, internships\, shadow experiences\, or advancing your current degree.
X-ALT-DESC;FMTTYPE=text/html:Vendors from across the region are welcoming any person interested in a healthcare-related profession. Vendors will focus on informing the public about career opportunities\, internships\, shadow experiences\, or advancing your current degree.
LOCATION:Dakota Wesleyan University Campus Rollins Campus Center -East Main Dining Room
UID:e.1624.9105
SEQUENCE:3
DTSTAMP:20260426T014101Z
URL:https://business.mitchellchamber.com/events/details/dwu-healthcare-career-fair-9105
END:VEVENT

END:VCALENDAR
