BEGIN:VCALENDAR
VERSION:2.0
PRODID:-//ChamberMaster//Event Calendar 2.0//EN
METHOD:PUBLISH
X-PUBLISHED-TTL:P3D
REFRESH-INTERVAL:P3D
CALSCALE:GREGORIAN
BEGIN:VEVENT
DTSTART:20180714T140000Z
DTEND:20180714T220000Z
X-MICROSOFT-CDO-ALLDAYEVENT:FALSE
SUMMARY:DWU Football Trap Shoot and Golf Tournament
DESCRIPTION:$200 for a 2 man team (lodging not included)\n\n$350 if you pay for 2 teams (lodging not included)\n\n**Limited to the first 54 teams! $100 to become a hole sponsor\n\nCost Includes: -50 shells for trap competition Saturday at Mitchell Trap Club in Mitchell\, SD\n\n-Dinner Friday evening at Wild Oak Golf Course\n\n-Green Fees\, Cart\, and 18 holes of golf Saturday afternoon at Wild Oak Golf Course\n\n-DWU Football golf towel\n\n-DWU Football Hat\n\nPrizes for top trap team\, top golf team\, overall combined winner of trap and golf\n\n**Raffle and cash prizes available.
X-ALT-DESC;FMTTYPE=text/html:$200 for a 2 man team (lodging not included)<br />\n$350 if you pay for 2 teams (lodging not included)<br />\n**Limited to the first 54 teams! $100 to become a hole sponsor<br />\nCost Includes: -50 shells for trap competition Saturday at Mitchell Trap Club in Mitchell\, SD<br />\n-Dinner Friday evening at Wild Oak Golf Course<br />\n-Green Fees\, Cart\, and 18 holes of golf Saturday afternoon at Wild Oak Golf Course<br />\n-DWU Football golf towel<br />\n-DWU Football Hat<br />\nPrizes for top trap team\, top golf team\, overall combined winner of trap and golf<br />\n**Raffle and cash prizes available.
LOCATION:Trap Shoot--Mitchell Gun Club 18 Hole Golf Tournament-Wild Oak Golf Course
UID:e.1624.17114
SEQUENCE:3
DTSTAMP:20260425T111002Z
URL:https://business.mitchellchamber.com/events/details/dwu-football-trap-shoot-and-golf-tournament-17114
END:VEVENT

END:VCALENDAR
