BEGIN:VCALENDAR
VERSION:2.0
PRODID:-//ChamberMaster//Event Calendar 2.0//EN
METHOD:PUBLISH
X-PUBLISHED-TTL:P3D
REFRESH-INTERVAL:P3D
CALSCALE:GREGORIAN
BEGIN:VEVENT
DTSTART:20190202T200000Z
DTEND:20190202T220000Z
X-MICROSOFT-CDO-ALLDAYEVENT:FALSE
SUMMARY:DWU Football Signing Day Party
DESCRIPTION:Meet the DWU football class of 2019! Join DWU head football coach Ross Cimpl and DWU fans in welcoming the new recruits.
X-ALT-DESC;FMTTYPE=text/html:Meet the DWU football class of 2019! Join DWU head football coach Ross Cimpl and DWU fans in welcoming the new recruits.
LOCATION:Blarney's Sports Bar & Grill 2100 Highland Way Mitchell\, SD
UID:e.1624.22543
SEQUENCE:3
DTSTAMP:20260424T224627Z
URL:https://business.mitchellchamber.com/events/details/dwu-football-signing-day-party-22543
END:VEVENT

END:VCALENDAR
