BEGIN:VCALENDAR
VERSION:2.0
PRODID:-//ChamberMaster//Event Calendar 2.0//EN
METHOD:PUBLISH
X-PUBLISHED-TTL:P3D
REFRESH-INTERVAL:P3D
CALSCALE:GREGORIAN
BEGIN:VEVENT
DTSTART:20250215T160000Z
DTEND:20250216T040000Z
X-MICROSOFT-CDO-ALLDAYEVENT:FALSE
SUMMARY:DWU/Culver's Boys Classic Basketball Tournament
DESCRIPTION:9:00   PHILIP VS MCCOOK CENTRAL/MONTROSE \n\n10:30   CORSICA-STICKNEY VS GREGORY\n\n12:00   HANSON VS WESSINGTON SPRINGS\n\n1:30   WHITE RIVER VS BRIDGEWATER EMERY\n\n3:00   SIOUX FALLS CHRISTIAN VS PINE RIDGE\n\n4:30   HAMLIN VS ST THOMAS MORE\n\n6:00   VIBORG-HURLEY VS RAPID CITY CHRISTIAN\n\n7:30   DELL RAPIDS ST MARY VS FREEMAN\n\n9:00   HOWARD VS PARKSTON
X-ALT-DESC;FMTTYPE=text/html:<p id="isPasted" style="box-sizing: content-box\; margin: 0px 0px 6px\; padding: 0px\; border: 0px\; outline: 0px\; font-size: 15.2px\; font-family: &quot\;Source Sans Pro&quot\;\; vertical-align: baseline\;">9:00 &ndash\; PHILIP VS MCCOOK CENTRAL/MONTROSE&nbsp\;</p>\n\n<p style="box-sizing: content-box\; margin: 0px 0px 6px\; padding: 0px\; border: 0px\; outline: 0px\; font-size: 15.2px\; font-family: &quot\;Source Sans Pro&quot\;\; vertical-align: baseline\;">10:30 &ndash\; CORSICA-STICKNEY VS GREGORY</p>\n\n<p style="box-sizing: content-box\; margin: 0px 0px 6px\; padding: 0px\; border: 0px\; outline: 0px\; font-size: 15.2px\; font-family: &quot\;Source Sans Pro&quot\;\; vertical-align: baseline\;">12:00 &ndash\; HANSON VS WESSINGTON SPRINGS</p>\n\n<p style="box-sizing: content-box\; margin: 0px 0px 6px\; padding: 0px\; border: 0px\; outline: 0px\; font-size: 15.2px\; font-family: &quot\;Source Sans Pro&quot\;\; vertical-align: baseline\;">1:30 &ndash\; WHITE RIVER VS BRIDGEWATER EMERY</p>\n\n<p style="box-sizing: content-box\; margin: 0px 0px 6px\; padding: 0px\; border: 0px\; outline: 0px\; font-size: 15.2px\; font-family: &quot\;Source Sans Pro&quot\;\; vertical-align: baseline\;">3:00 &ndash\; SIOUX FALLS CHRISTIAN VS PINE RIDGE</p>\n\n<p style="box-sizing: content-box\; margin: 0px 0px 6px\; padding: 0px\; border: 0px\; outline: 0px\; font-size: 15.2px\; font-family: &quot\;Source Sans Pro&quot\;\; vertical-align: baseline\;">4:30 &ndash\; HAMLIN VS ST THOMAS MORE</p>\n\n<p style="box-sizing: content-box\; margin: 0px 0px 6px\; padding: 0px\; border: 0px\; outline: 0px\; font-size: 15.2px\; font-family: &quot\;Source Sans Pro&quot\;\; vertical-align: baseline\;">6:00 &ndash\; VIBORG-HURLEY VS RAPID CITY CHRISTIAN</p>\n\n<p style="box-sizing: content-box\; margin: 0px 0px 6px\; padding: 0px\; border: 0px\; outline: 0px\; font-size: 15.2px\; font-family: &quot\;Source Sans Pro&quot\;\; vertical-align: baseline\;">7:30 &ndash\; DELL RAPIDS ST MARY VS FREEMAN</p>\n\n<p style="box-sizing: content-box\; margin: 0px 0px 6px\; padding: 0px\; border: 0px\; outline: 0px\; font-size: 15.2px\; font-family: &quot\;Source Sans Pro&quot\;\; vertical-align: baseline\;">9:00 &ndash\; HOWARD VS PARKSTON&nbsp\;</p>\n
LOCATION:The Corn Palace 604 N. Main St. Mitchell\, SD 57301
UID:e.1624.37587
SEQUENCE:3
DTSTAMP:20260421T113806Z
URL:https://business.mitchellchamber.com/events/details/dwu-culver-s-boys-classic-basketball-tournament-37587
END:VEVENT

END:VCALENDAR
